BEGIN:VCALENDAR
VERSION:2.0
PRODID:-//Onward New River Valley - ECPv6.15.14//NONSGML v1.0//EN
CALSCALE:GREGORIAN
METHOD:PUBLISH
X-WR-CALNAME:Onward New River Valley
X-ORIGINAL-URL:https://onwardnrv.org
X-WR-CALDESC:Events for Onward New River Valley
REFRESH-INTERVAL;VALUE=DURATION:PT1H
X-Robots-Tag:noindex
X-PUBLISHED-TTL:PT1H
BEGIN:VTIMEZONE
TZID:America/New_York
BEGIN:DAYLIGHT
TZOFFSETFROM:-0500
TZOFFSETTO:-0400
TZNAME:EDT
DTSTART:20250309T070000
END:DAYLIGHT
BEGIN:STANDARD
TZOFFSETFROM:-0400
TZOFFSETTO:-0500
TZNAME:EST
DTSTART:20251102T060000
END:STANDARD
BEGIN:DAYLIGHT
TZOFFSETFROM:-0500
TZOFFSETTO:-0400
TZNAME:EDT
DTSTART:20260308T070000
END:DAYLIGHT
BEGIN:STANDARD
TZOFFSETFROM:-0400
TZOFFSETTO:-0500
TZNAME:EST
DTSTART:20261101T060000
END:STANDARD
BEGIN:DAYLIGHT
TZOFFSETFROM:-0500
TZOFFSETTO:-0400
TZNAME:EDT
DTSTART:20270314T070000
END:DAYLIGHT
BEGIN:STANDARD
TZOFFSETFROM:-0400
TZOFFSETTO:-0500
TZNAME:EST
DTSTART:20271107T060000
END:STANDARD
END:VTIMEZONE
BEGIN:VEVENT
DTSTART;TZID=America/New_York:20260618T140000
DTEND;TZID=America/New_York:20260618T180000
DTSTAMP:20260422T091951
CREATED:20260106T150606Z
LAST-MODIFIED:20260106T150606Z
UID:13135-1781791200-1781805600@onwardnrv.org
SUMMARY:2026 NRV Experience Excursion 1
DESCRIPTION:The NRV Experience excursions begin! Participants will travel to one of the communities in the region to experience life in the NRV. They will also have the opportunity to connect and receive professional development from local leaders.
URL:https://onwardnrv.org/event/2026-nrv-experience-excursion-1/
CATEGORIES:NRV Experience
ATTACH;FMTTYPE=image/jpeg:https://onwardnrv.org/wp-content/uploads/2022/08/072622NRVEExcursionBlog.jpg
ORGANIZER;CN="Onward NRV":MAILTO:info@onwardnrv.org
END:VEVENT
END:VCALENDAR